BEGIN:VCALENDAR
VERSION:2.0
PRODID:-//Eesti Elektroonikat&ouml;&ouml;stuse Liit - ECPv6.15.16//NONSGML v1.0//EN
CALSCALE:GREGORIAN
METHOD:PUBLISH
X-ORIGINAL-URL:https://estonianelectronics.eu/en/
X-WR-CALDESC:Events for Eesti Elektroonikat&ouml;&ouml;stuse Liit
REFRESH-INTERVAL;VALUE=DURATION:PT1H
X-Robots-Tag:noindex
X-PUBLISHED-TTL:PT1H
BEGIN:VTIMEZONE
TZID:Europe/Tallinn
BEGIN:DAYLIGHT
TZOFFSETFROM:+0200
TZOFFSETTO:+0300
TZNAME:EEST
DTSTART:20220327T010000
END:DAYLIGHT
BEGIN:STANDARD
TZOFFSETFROM:+0300
TZOFFSETTO:+0200
TZNAME:EET
DTSTART:20221030T010000
END:STANDARD
BEGIN:DAYLIGHT
TZOFFSETFROM:+0200
TZOFFSETTO:+0300
TZNAME:EEST
DTSTART:20230326T010000
END:DAYLIGHT
BEGIN:STANDARD
TZOFFSETFROM:+0300
TZOFFSETTO:+0200
TZNAME:EET
DTSTART:20231029T010000
END:STANDARD
BEGIN:DAYLIGHT
TZOFFSETFROM:+0200
TZOFFSETTO:+0300
TZNAME:EEST
DTSTART:20240331T010000
END:DAYLIGHT
BEGIN:STANDARD
TZOFFSETFROM:+0300
TZOFFSETTO:+0200
TZNAME:EET
DTSTART:20241027T010000
END:STANDARD
BEGIN:DAYLIGHT
TZOFFSETFROM:+0200
TZOFFSETTO:+0300
TZNAME:EEST
DTSTART:20250330T010000
END:DAYLIGHT
BEGIN:STANDARD
TZOFFSETFROM:+0300
TZOFFSETTO:+0200
TZNAME:EET
DTSTART:20251026T010000
END:STANDARD
BEGIN:DAYLIGHT
TZOFFSETFROM:+0200
TZOFFSETTO:+0300
TZNAME:EEST
DTSTART:20260329T010000
END:DAYLIGHT
BEGIN:STANDARD
TZOFFSETFROM:+0300
TZOFFSETTO:+0200
TZNAME:EET
DTSTART:20261025T010000
END:STANDARD
END:VTIMEZONE
BEGIN:VEVENT
DTSTART;TZID=Europe/Tallinn:20241205T090000
DTEND;TZID=Europe/Tallinn:20251205T193000
DTSTAMP:20260419T152934
CREATED:20251023T122952Z
LAST-MODIFIED:20251023T123231Z
UID:25816-1733389200-1764963000@estonianelectronics.eu
SUMMARY:EMS & BEYOND 2025
DESCRIPTION:Join Europe’s leading EMS and electronics professionals in Tallinn this December! \nEMS & BEYOND 2025 – Europe’s key electronics industry event takes place in Tallinn this December \nOn 5 December 2025\, the international seminar EMS & BEYOND 2025 will take place at Hilton Tallinn Park\, bringing together Europe’s top experts\, analysts\, and business leaders from the electronics industry.
URL:https://estonianelectronics.eu/en/uritus/ems-beyond-2025/
LOCATION:Hilton Tallinn Park\, Fr. R. Kreutzwaldi 23\, Tallinn\, Estonia
CATEGORIES:EETL üritused
ATTACH;FMTTYPE=image/jpeg:https://estonianelectronics.eu/wp-content/uploads/2025/10/EMS-and-Beyond-2025-eetl.jpg
ORGANIZER;CN="EETL":MAILTO:info@estonianelectronics.eu
END:VEVENT
BEGIN:VEVENT
DTSTART;TZID=Europe/Tallinn:20241015T090000
DTEND;TZID=Europe/Tallinn:20241015T173000
DTSTAMP:20260419T152934
CREATED:20240923T093058Z
LAST-MODIFIED:20240930T125201Z
UID:25161-1728982800-1729013400@estonianelectronics.eu
SUMMARY:EMS & BEYOND 2024
DESCRIPTION:The annual international conference “EMS & BEYOND 2024” organised by the Estonian Electronics Industries Association on Tuesday\, October 15’th 2024 at 09:00-17:30 is held at the Radisson Collection Hotel (Rävala pst. 3\, Tallinn\, Estonia). Attendance is free for registered professionals. \nProgramme\, registration and other information can be found on the conference webpage.
URL:https://estonianelectronics.eu/en/uritus/ems-and-beyond-2024-10-15/
LOCATION:Radisson Collection Hotel\, Rävala pst. 3\, Tallinn\, Estonia
CATEGORIES:EETL üritused
ORGANIZER;CN="EETL":MAILTO:info@estonianelectronics.eu
END:VEVENT
BEGIN:VEVENT
DTSTART;TZID=Europe/Tallinn:20231130T090000
DTEND;TZID=Europe/Tallinn:20231130T190000
DTSTAMP:20260419T152934
CREATED:20231017T064710Z
LAST-MODIFIED:20231017T065600Z
UID:24365-1701334800-1701370800@estonianelectronics.eu
SUMMARY:IPC Day EMS 2023 - "Where have all the orders gone"
DESCRIPTION:Estonian Electronics Industries Association is pleased to announce that in cooperation with IPC\, our annual seminar “IPC Day EMS 2023 – Where have all the orders gone” will be held on the 30th of November 2023 at 09:00-19:00 at the Park Inn By Radisson Meriton Conference and Spa Hotel\, Toompuiestee 27\, Tallinn\, Estonia \nOur seminar will bring together international representatives from the electronics industry\, government\, academia\, and the finance industry\, to present the Electronics Manufacturing Sector in Europe\, discuss the latest business and technology trends and challenges\, and showcase the capabilities of the European and Estonian electronics industry throughout the value chain. \nThe seminar will be held in English. Please find the agenda and registration details on the seminar website.
URL:https://estonianelectronics.eu/en/uritus/ipc-day-ems-2023-where-have-all-the-orders-gone/
LOCATION:Park Inn by Radisson Meriton\, Toompuiestee 27\, Tallinn\, 10149\, Eesti
CATEGORIES:EETL üritused
ORGANIZER;CN="EETL":MAILTO:info@estonianelectronics.eu
END:VEVENT
END:VCALENDAR