BEGIN:VCALENDAR
VERSION:2.0
PRODID:-//Eesti Elektroonikat&ouml;&ouml;stuse Liit - ECPv6.15.16//NONSGML v1.0//EN
CALSCALE:GREGORIAN
METHOD:PUBLISH
X-WR-CALNAME:Eesti Elektroonikat&ouml;&ouml;stuse Liit
X-ORIGINAL-URL:https://estonianelectronics.eu/en/
X-WR-CALDESC:Events for Eesti Elektroonikat&ouml;&ouml;stuse Liit
REFRESH-INTERVAL;VALUE=DURATION:PT1H
X-Robots-Tag:noindex
X-PUBLISHED-TTL:PT1H
BEGIN:VTIMEZONE
TZID:Europe/Tallinn
BEGIN:DAYLIGHT
TZOFFSETFROM:+0200
TZOFFSETTO:+0300
TZNAME:EEST
DTSTART:20210328T010000
END:DAYLIGHT
BEGIN:STANDARD
TZOFFSETFROM:+0300
TZOFFSETTO:+0200
TZNAME:EET
DTSTART:20211031T010000
END:STANDARD
BEGIN:DAYLIGHT
TZOFFSETFROM:+0200
TZOFFSETTO:+0300
TZNAME:EEST
DTSTART:20220327T010000
END:DAYLIGHT
BEGIN:STANDARD
TZOFFSETFROM:+0300
TZOFFSETTO:+0200
TZNAME:EET
DTSTART:20221030T010000
END:STANDARD
BEGIN:DAYLIGHT
TZOFFSETFROM:+0200
TZOFFSETTO:+0300
TZNAME:EEST
DTSTART:20230326T010000
END:DAYLIGHT
BEGIN:STANDARD
TZOFFSETFROM:+0300
TZOFFSETTO:+0200
TZNAME:EET
DTSTART:20231029T010000
END:STANDARD
BEGIN:DAYLIGHT
TZOFFSETFROM:+0200
TZOFFSETTO:+0300
TZNAME:EEST
DTSTART:20240331T010000
END:DAYLIGHT
BEGIN:STANDARD
TZOFFSETFROM:+0300
TZOFFSETTO:+0200
TZNAME:EET
DTSTART:20241027T010000
END:STANDARD
END:VTIMEZONE
BEGIN:VEVENT
DTSTART;TZID=Europe/Tallinn:20231114T080000
DTEND;TZID=Europe/Tallinn:20231117T170000
DTSTAMP:20260419T183201
CREATED:20231017T071626Z
LAST-MODIFIED:20231017T073036Z
UID:24373-1699948800-1700240400@estonianelectronics.eu
SUMMARY:Productronica 2023
DESCRIPTION:The Estonian Electronics Industries Association is present at Productronica 2023 in Munich on 14.-17.11.2023. \nWe will be providing all interested parties with the newest information material “Smart Electronics from Estonia” in the Estonian Pavilion\, stand B2.344.
URL:https://estonianelectronics.eu/en/uritus/productronica-2023/
LOCATION:München\, Saksamaa\, Germany
CATEGORIES:Valdkondlikud üritused
END:VEVENT
BEGIN:VEVENT
DTSTART;VALUE=DATE:20230207
DTEND;VALUE=DATE:20230209
DTSTAMP:20260419T183201
CREATED:20221103T101357Z
LAST-MODIFIED:20221103T102058Z
UID:23399-1675728000-1675900799@estonianelectronics.eu
SUMMARY:ECS Brokerage 2023
DESCRIPTION:Following up on the European Forum on Electronic Components and Systems EFECS 2022 (24.-25. November 2022 in Amsterdam)\, the ECS Brokerage Event at Hotel Le Plaza Brussels on 7-8 February 2023 offers a networking meeting point to build consortia and share ideas. This matchmaking get-together is a perfect way to collaborate in regards to the KDT JU and Horizon Europe. \nProgramme is published in November. Registration will open in the beginning of December. \nThe ECS Brokerage Event combines the brokerage activities of the industry associations AENEAS\, EPoSS and Inside into one digital networking event dedicated to project proposals in the field of Electronic Components and Systems. \nThis event facilitates the ECS communities and collects all project proposals and experts together\, making it easier for the ECS research community to find and create information and project proposals. \nThe event is linked with the ECS Collaboration Tool; the online tool that enables users to initiate projects and invite partners\, or use the messaging system to look for partners or projects. \nAfter forming consortia\, online and at the ECS Brokerage Event\, project teams can assess the best mechanism for funding support for their project\, be it a National\, KDT-JU\, European Commission or EUREKA type funding.
URL:https://estonianelectronics.eu/en/uritus/ecs-brokerage-2023/
LOCATION:Hotel Le Plaza Brussels\, Adolphe Maxlaan 118/126\, Brussels\, 1000\, Belgia
CATEGORIES:Valdkondlikud üritused
END:VEVENT
BEGIN:VEVENT
DTSTART;VALUE=DATE:20221124
DTEND;VALUE=DATE:20221126
DTSTAMP:20260419T183201
CREATED:20220926T091957Z
LAST-MODIFIED:20220930T142324Z
UID:23325-1669248000-1669420799@estonianelectronics.eu
SUMMARY:EFECS 2022
DESCRIPTION:European Forum for Electronic Components and Systems\nEFECS is the international forum to Create impact by collaborative innovation! For an autonomous and sustainable Europe along the Electronic Components and Systems value chain in Europe. Therefore the organisers of this event\, AENEAS\, EPoSS and Inside have joined forces to bring all stakeholders together on 24-25 November 2022 in Amsterdam at Beurs van Berlage\, where we come together to Create impact by Collaborative Innovation! \nParticipation allows to find partners for KDT JU project consortia and to participate in ECS.SRIA 2023 discussions. \n 
URL:https://estonianelectronics.eu/en/uritus/efecs-2022/
LOCATION:Beurs van Berlage\, Amsterdam\, Holland
CATEGORIES:Valdkondlikud üritused
END:VEVENT
END:VCALENDAR