BEGIN:VCALENDAR
VERSION:2.0
PRODID:-//Eesti Elektroonikat&ouml;&ouml;stuse Liit - ECPv6.15.16//NONSGML v1.0//EN
CALSCALE:GREGORIAN
METHOD:PUBLISH
X-ORIGINAL-URL:https://estonianelectronics.eu
X-WR-CALDESC:Events for Eesti Elektroonikat&ouml;&ouml;stuse Liit
REFRESH-INTERVAL;VALUE=DURATION:PT1H
X-Robots-Tag:noindex
X-PUBLISHED-TTL:PT1H
BEGIN:VTIMEZONE
TZID:Europe/Tallinn
BEGIN:DAYLIGHT
TZOFFSETFROM:+0200
TZOFFSETTO:+0300
TZNAME:EEST
DTSTART:20210328T010000
END:DAYLIGHT
BEGIN:STANDARD
TZOFFSETFROM:+0300
TZOFFSETTO:+0200
TZNAME:EET
DTSTART:20211031T010000
END:STANDARD
BEGIN:DAYLIGHT
TZOFFSETFROM:+0200
TZOFFSETTO:+0300
TZNAME:EEST
DTSTART:20220327T010000
END:DAYLIGHT
BEGIN:STANDARD
TZOFFSETFROM:+0300
TZOFFSETTO:+0200
TZNAME:EET
DTSTART:20221030T010000
END:STANDARD
BEGIN:DAYLIGHT
TZOFFSETFROM:+0200
TZOFFSETTO:+0300
TZNAME:EEST
DTSTART:20230326T010000
END:DAYLIGHT
BEGIN:STANDARD
TZOFFSETFROM:+0300
TZOFFSETTO:+0200
TZNAME:EET
DTSTART:20231029T010000
END:STANDARD
BEGIN:DAYLIGHT
TZOFFSETFROM:+0200
TZOFFSETTO:+0300
TZNAME:EEST
DTSTART:20240331T010000
END:DAYLIGHT
BEGIN:STANDARD
TZOFFSETFROM:+0300
TZOFFSETTO:+0200
TZNAME:EET
DTSTART:20241027T010000
END:STANDARD
END:VTIMEZONE
BEGIN:VEVENT
DTSTART;TZID=Europe/Tallinn:20231114T080000
DTEND;TZID=Europe/Tallinn:20231117T170000
DTSTAMP:20260419T171623
CREATED:20231017T071626Z
LAST-MODIFIED:20231017T071626Z
UID:24368-1699948800-1700240400@estonianelectronics.eu
SUMMARY:Productronica 2023
DESCRIPTION:Eesti Elektroonikatööstuse Liit osaleb messil Productronica 2023 Münhenis 14.-17.11.2023. \nElektroonikatööstust tutvustavat uusimat reklaambrošüüri “Smart Electronics from Estonia” jagame Eesti paviljonis stendil B2.344.
URL:https://estonianelectronics.eu/uritus/productronica-2023/
LOCATION:München\, Saksamaa\, Germany
CATEGORIES:Valdkondlikud üritused
END:VEVENT
BEGIN:VEVENT
DTSTART;TZID=Europe/Tallinn:20230526T140000
DTEND;TZID=Europe/Tallinn:20230526T160000
DTSTAMP:20260419T171623
CREATED:20230524T120817Z
LAST-MODIFIED:20230524T120817Z
UID:23855-1685109600-1685116800@estonianelectronics.eu
SUMMARY:Elektroonikatööstuse ökoinnovatsiooni seminar
DESCRIPTION:Tartu Ülikooli Johan Skytte instituut korraldab Liidu liikmetele tasuta seminari elektroonikatööstuse ökoinnovatsiooni teemal. Seminar toimub reedel\, 26.05.2023\, kell 14:00-16:00 Tartu Ülikooli Tallinna Filiaali kolmandal korrusel ruumis 311 (Teatri väljak 3). \nSeminari kava: \n* Krista Kupits räägib lähemalt Eesti ringmajanduse arengusuundadest ning LIFE programmi toetusmeetmetest\, mis haakuvad elektroonikatööstusega.\n* Hanna Laius tutvustab just valminud elektroonikasektorile suunatud ökoinnovatsiooni ja EL regulatsioonide koolitusmaterjale ja online koolitust.\n* Kõu Mobility Group esindaja räägib heitmevabast transpordist\n* Superhands esindaja räägib erinevatest sensoritest ja tarkadest lahendustest\, mille eesmärk on panustada jätkusuutlikuma keskkonna (linnakeskkond\, põllumajandus\, sisekliima) loomisele. \nOma osalemisest andke palun märku alloleva vormi kaudu:  https://forms.gle/ybEFRHnH6Dm62XXj8
URL:https://estonianelectronics.eu/uritus/elektroonikatoostuse-okoinnovatsiooni-seminar/
CATEGORIES:Valdkondlikud üritused
END:VEVENT
BEGIN:VEVENT
DTSTART;TZID=Europe/Tallinn:20230425T090000
DTEND;TZID=Europe/Tallinn:20230425T140000
DTSTAMP:20260419T171623
CREATED:20230420T074128Z
LAST-MODIFIED:20230420T074128Z
UID:23805-1682413200-1682431200@estonianelectronics.eu
SUMMARY:ESD Center Tech Day
DESCRIPTION:
URL:https://estonianelectronics.eu/uritus/esd-center-tech-day/
LOCATION:ESD Center\, Allika tee 1\, Peetri\, Estonia
CATEGORIES:Valdkondlikud üritused
END:VEVENT
BEGIN:VEVENT
DTSTART;VALUE=DATE:20230207
DTEND;VALUE=DATE:20230209
DTSTAMP:20260419T171623
CREATED:20221103T101357Z
LAST-MODIFIED:20221103T101357Z
UID:23395-1675728000-1675900799@estonianelectronics.eu
SUMMARY:ECS Brokerage 2023
DESCRIPTION:Euroopa partnerluse KDT JU raames toimuva arenduskoostöö koordineerimise toetamiseks Amsterdamis 24.-25.11.2022 korraldatavale Euroopa elektroonikakomponentide ja -süsteemide (ECS) uuringute\, arenduse ja tootmisega tegeleva ökosüsteemi kesksele üritusele EFECS 2022 järgneb uuel aastal partneriotsinguüritus ECS Brokerage Event Brüsselis 07.-08.02.2023. \nProgramm täpsustub novembris\, registreerumine avatakse detsembri alguses.
URL:https://estonianelectronics.eu/uritus/ecs-brokerage-2023/
LOCATION:Hotel Le Plaza Brussels\, Adolphe Maxlaan 118/126\, Brussels\, 1000\, Belgia
CATEGORIES:Valdkondlikud üritused
END:VEVENT
BEGIN:VEVENT
DTSTART;VALUE=DATE:20221124
DTEND;VALUE=DATE:20221126
DTSTAMP:20260419T171623
CREATED:20220926T091957Z
LAST-MODIFIED:20220926T091957Z
UID:23292-1669248000-1669420799@estonianelectronics.eu
SUMMARY:EFECS 2022
DESCRIPTION:Euroopa elektroonikakomponentide ja -süsteemide (ECS) uuringute\, arenduse ja tootmisega tegeleva ökosüsteemi keskne üritus EFECS 2022 toimub 24.-25.11.2022 Amsterdamis (Beurs van Berlage). Osavõtu maksumus on varajasel reserveerinisel (kuni 24.10.)  280€\, hiljem 400€\, lisanduvad käibemaks\, sõidu- ja hotellikulud. Kaugjuurdepääs sel aastal puudub. \nÜritus annab võimaluse ette valmistada konsortsiume järgmisteks KDT/Chips JU projektikonkurssideks ning osaleda valdkonna strateegilise arengukava ECS-SRIA 2023 arutelul.
URL:https://estonianelectronics.eu/uritus/efecs-2022/
LOCATION:Beurs van Berlage\, Amsterdam\, Holland
CATEGORIES:Valdkondlikud üritused
END:VEVENT
BEGIN:VEVENT
DTSTART;VALUE=DATE:20221115
DTEND;VALUE=DATE:20221119
DTSTAMP:20260419T171623
CREATED:20220801T122213Z
LAST-MODIFIED:20220801T122213Z
UID:23224-1668477600-1668736799@estonianelectronics.eu
SUMMARY:Elektroonikatööstuse mess electronica 2022
DESCRIPTION:EAS ja Elektroonikatööstuse Liit viivad ettevõtted ühisstendiga elektroonikatööstuse maailmamessile electronica 2022.  \nÜhisstendil osalevad: Artec Design OÜ\, Eolane Tallinn AS\, Hedgehog OÜ\, Incap Electronics Estonia OÜ\, Testonica Lab OÜ\, Reimax Electronics OÜ\, Krakul OÜ\, Flowbase OÜ.
URL:https://estonianelectronics.eu/uritus/elektroonikatoostuse-mess-electronica-2022/
LOCATION:München\, Saksamaa\, Germany
CATEGORIES:EETL üritused,Valdkondlikud üritused
END:VEVENT
BEGIN:VEVENT
DTSTART;VALUE=DATE:20221026
DTEND;VALUE=DATE:20221028
DTSTAMP:20260419T171623
CREATED:20220426T104911Z
LAST-MODIFIED:20220801T121532Z
UID:23131-1666753200-1666839599@estonianelectronics.eu
SUMMARY:ECPE Tutorial | Part II
DESCRIPTION:Thermal Engineering of Power Electronic Systems Part II: Thermal Management and Reliability
URL:https://estonianelectronics.eu/uritus/ecpe-tutorial-part-ii/
LOCATION:Nürnberg\, Saksamaa\, Germany
CATEGORIES:Valdkondlikud üritused
END:VEVENT
BEGIN:VEVENT
DTSTART;VALUE=DATE:20220922
DTEND;VALUE=DATE:20220924
DTSTAMP:20260419T171623
CREATED:20220426T102240Z
LAST-MODIFIED:20220426T110017Z
UID:23109-1663815600-1663901999@estonianelectronics.eu
SUMMARY:ECPE Workshop
DESCRIPTION:Design\, Technology\, Simulation and Application Aspects of Magnetic Components in Power Electronics
URL:https://estonianelectronics.eu/uritus/ecpe-workshop-france/
LOCATION:Toulouse\, Prantsusmaa\, France
CATEGORIES:Valdkondlikud üritused
END:VEVENT
BEGIN:VEVENT
DTSTART;VALUE=DATE:20220908
DTEND;VALUE=DATE:20220910
DTSTAMP:20260419T171623
CREATED:20220426T101556Z
LAST-MODIFIED:20220426T105906Z
UID:23106-1662606000-1662692399@estonianelectronics.eu
SUMMARY:ECPE Workshop
DESCRIPTION:High Power Electronics for a Successful Energy Transition towards 100 % Renewable Energy
URL:https://estonianelectronics.eu/uritus/ecpe-workshop/
LOCATION:Hannover\, Saksamaa\, Germany
CATEGORIES:Valdkondlikud üritused
END:VEVENT
BEGIN:VEVENT
DTSTART;VALUE=DATE:20220628
DTEND;VALUE=DATE:20220630
DTSTAMP:20260419T171623
CREATED:20220426T104237Z
LAST-MODIFIED:20220426T104656Z
UID:23127-1656385200-1656471599@estonianelectronics.eu
SUMMARY:ECPE Tutorial | Part I
DESCRIPTION:Thermal Engineering of Power Electronic Systems Part I: Thermal Design and Verification
URL:https://estonianelectronics.eu/uritus/ecpe-tutorial-2/
LOCATION:Nürnberg\, Saksamaa\, Germany
CATEGORIES:Valdkondlikud üritused
END:VEVENT
BEGIN:VEVENT
DTSTART;VALUE=DATE:20220601
DTEND;VALUE=DATE:20220603
DTSTAMP:20260419T171623
CREATED:20220412T121442Z
LAST-MODIFIED:20220426T105742Z
UID:22921-1654052400-1654138799@estonianelectronics.eu
SUMMARY:Hybrid Event | ECPE Workshop
DESCRIPTION:Power Electronics Developments for Data Centres
URL:https://estonianelectronics.eu/uritus/hybrid-event-ecpe-workshop/
LOCATION:Zürich\, Šveits\, Switzerland
CATEGORIES:Valdkondlikud üritused
END:VEVENT
BEGIN:VEVENT
DTSTART;VALUE=DATE:20220531
DTEND;VALUE=DATE:20220602
DTSTAMP:20260419T171623
CREATED:20220426T103929Z
LAST-MODIFIED:20220426T105638Z
UID:23125-1653966000-1654052399@estonianelectronics.eu
SUMMARY:ECPE Online Tutorial
DESCRIPTION:Introduction to Power Electronics\nDigital event
URL:https://estonianelectronics.eu/uritus/ecpe-online-tutorial/
CATEGORIES:Valdkondlikud üritused
END:VEVENT
BEGIN:VEVENT
DTSTART;VALUE=DATE:20220530
DTEND;VALUE=DATE:20220603
DTSTAMP:20260419T171623
CREATED:20220426T101226Z
LAST-MODIFIED:20220426T105510Z
UID:23103-1653879600-1654138799@estonianelectronics.eu
SUMMARY:Hannover Messe
DESCRIPTION:
URL:https://estonianelectronics.eu/uritus/hannover-messe/
LOCATION:Hannover\, Saksamaa\, Germany
CATEGORIES:Valdkondlikud üritused
END:VEVENT
BEGIN:VEVENT
DTSTART;VALUE=DATE:20220523
DTEND;VALUE=DATE:20220528
DTSTAMP:20260419T171623
CREATED:20220426T103652Z
LAST-MODIFIED:20220426T105435Z
UID:23122-1653274800-1653620399@estonianelectronics.eu
SUMMARY:22nd European PhD School
DESCRIPTION: Power Electronics\, Electrical Machines\, Energy Control and Power Systems
URL:https://estonianelectronics.eu/uritus/22nd-european-phd-school/
LOCATION:Gaeta\, Itaalia\, Italy
CATEGORIES:Valdkondlikud üritused
END:VEVENT
BEGIN:VEVENT
DTSTART;VALUE=DATE:20220428
DTEND;VALUE=DATE:20220430
DTSTAMP:20260419T171623
CREATED:20220426T103455Z
LAST-MODIFIED:20220426T105329Z
UID:23119-1651114800-1651201199@estonianelectronics.eu
SUMMARY:Hybrid Event | ECPE Tutorial
DESCRIPTION:EMC in Power Electronics
URL:https://estonianelectronics.eu/uritus/hybrid-event-ecpe-tutorial/
LOCATION:Hamburg\, Saksamaa\, Germany
CATEGORIES:Valdkondlikud üritused
END:VEVENT
BEGIN:VEVENT
DTSTART;VALUE=DATE:20220405
DTEND;VALUE=DATE:20220407
DTSTAMP:20260419T171623
CREATED:20220426T103047Z
LAST-MODIFIED:20220426T105243Z
UID:23116-1649127600-1649213999@estonianelectronics.eu
SUMMARY:ECPE Tutorial
DESCRIPTION:Gate Drivers and Control Circuitry for IGBTs and MOSFETs
URL:https://estonianelectronics.eu/uritus/ecpe-tutorial/
LOCATION:Vienna\, Austria\, Austria
CATEGORIES:Valdkondlikud üritused
END:VEVENT
BEGIN:VEVENT
DTSTART;VALUE=DATE:20220315
DTEND;VALUE=DATE:20220318
DTSTAMP:20260419T171623
CREATED:20220426T102723Z
LAST-MODIFIED:20220426T105116Z
UID:23112-1647309600-1647482399@estonianelectronics.eu
SUMMARY:Hybrid Event | ECPE Conference
DESCRIPTION: CIPS 2022 – 12th International Conference on Integrated Power Electronic Systems
URL:https://estonianelectronics.eu/uritus/hybrid-event-ecpe-conference/
LOCATION:Berliin\, Saksamaa\, Germany
CATEGORIES:Valdkondlikud üritused
END:VEVENT
END:VCALENDAR