BEGIN:VCALENDAR
VERSION:2.0
PRODID:-//Eesti Elektroonikat&ouml;&ouml;stuse Liit - ECPv6.15.16//NONSGML v1.0//EN
CALSCALE:GREGORIAN
METHOD:PUBLISH
X-ORIGINAL-URL:https://estonianelectronics.eu
X-WR-CALDESC:Events for Eesti Elektroonikat&ouml;&ouml;stuse Liit
REFRESH-INTERVAL;VALUE=DURATION:PT1H
X-Robots-Tag:noindex
X-PUBLISHED-TTL:PT1H
BEGIN:VTIMEZONE
TZID:Europe/Tallinn
BEGIN:DAYLIGHT
TZOFFSETFROM:+0200
TZOFFSETTO:+0300
TZNAME:EEST
DTSTART:20240331T010000
END:DAYLIGHT
BEGIN:STANDARD
TZOFFSETFROM:+0300
TZOFFSETTO:+0200
TZNAME:EET
DTSTART:20241027T010000
END:STANDARD
BEGIN:DAYLIGHT
TZOFFSETFROM:+0200
TZOFFSETTO:+0300
TZNAME:EEST
DTSTART:20250330T010000
END:DAYLIGHT
BEGIN:STANDARD
TZOFFSETFROM:+0300
TZOFFSETTO:+0200
TZNAME:EET
DTSTART:20251026T010000
END:STANDARD
BEGIN:DAYLIGHT
TZOFFSETFROM:+0200
TZOFFSETTO:+0300
TZNAME:EEST
DTSTART:20260329T010000
END:DAYLIGHT
BEGIN:STANDARD
TZOFFSETFROM:+0300
TZOFFSETTO:+0200
TZNAME:EET
DTSTART:20261025T010000
END:STANDARD
BEGIN:DAYLIGHT
TZOFFSETFROM:+0200
TZOFFSETTO:+0300
TZNAME:EEST
DTSTART:20270328T010000
END:DAYLIGHT
BEGIN:STANDARD
TZOFFSETFROM:+0300
TZOFFSETTO:+0200
TZNAME:EET
DTSTART:20271031T010000
END:STANDARD
END:VTIMEZONE
BEGIN:VEVENT
DTSTART;TZID=Europe/Tallinn:20250904T100000
DTEND;TZID=Europe/Tallinn:20250904T173000
DTSTAMP:20260420T033410
CREATED:20250813T110044Z
LAST-MODIFIED:20250813T110044Z
UID:25619-1756980000-1757007000@estonianelectronics.eu
SUMMARY:TAICHIP Industry Day
DESCRIPTION:Kiibidisainist huvitatud ettevõtete elektroonikainseneridel ja spetsialistidel on võimalus osa võtta projekti TAICHIP suvise töötoa “Chip Design” tööstusele suunatud seminaripäevast neljapäeval\, 04.09.2025 TalTechi Arvutisüsteemide Instituudis (ruum ICT-507AB (5. korrus)\, Akadeemia 15A\, Tallinn). \nEsinejate seas on esindatud kiibitehas/instituut IHP (Saksamaa)\, RISC-V protsessorite valmistaja ja RISC-V konsortsiumi juht ETH Zürich (Šveits) ning peamiselt kosmoses kasutatavate LEON protsessorite tootja Frontgrade Gaisler (Rootsi). Ettevõtted saavad ülevaate vabavaralistel protsessoriarhitektuuridel põhinevate kiipide disainist ning infot IHP vabavaralisest tehnoloogiast. \nRegistreerumine on avatud.
URL:https://estonianelectronics.eu/uritus/taichip-industry-day/
LOCATION:TTÜ ATI\, Akadeemia 15A\, Tallinn\, 12618
END:VEVENT
BEGIN:VEVENT
DTSTART;TZID=Europe/Tallinn:20251021T090000
DTEND;TZID=Europe/Tallinn:20251023T160000
DTSTAMP:20260420T033410
CREATED:20250910T070732Z
LAST-MODIFIED:20250910T111208Z
UID:25644-1761037200-1761235200@estonianelectronics.eu
SUMMARY:IPC käsijootmisvõistlus 2025
DESCRIPTION:Sel aastal korraldatakse elektroonikakoostu käsijootmisvõistlus IPC Hand Soldering Competition 2025 Regional Qualification – Estonia 21.-23.10.2025 Tallinna Tehnikaülikooli peahoone fuajees Eesti Elektroonikatööstuse Liidu\, tööstusliidu Global Electronics Association\, Tallinna Polütehnikumi (TPT) ja Tallinna Tehnikaülikooli koostöös. \nKõik kutselised jootejaama-operaatorid on teretulnud oma erialaseid oskusi proovile panema 22.-23.10.\, koostades 60 minuti jooksul ülesandeks ette valmistatud kompleksse trükkplaadi. \nTudengite võistluspäevaks on teisipäev\, 21.10.2025. Detailsem eestikeelne info on TPT kutses. \nVõistlusele registreerumine toimub IPC veebilehel. \nLoodame liidu liikmete esindajate rohket osavõttu – välja on pandud kolm rahalist auhinda ning spetsialistist esikoha võitja kutsutakse tööstusliidu Global Electronics Association poolt kaetud kuludega osalema võistluse ülemaailmses lõppvoorus näitusel Productronica 18.-21.11.2025 Münchenis. Lisaks paneb T.J. Seebecki elektroonikainstituut välja rahalise auhinna 500€ parimale TalTechi üliõpilasele. \nEeldatavasti korraldatakse üritusega paralleelselt ka seminare\, mille ajakava täpsustub.
URL:https://estonianelectronics.eu/uritus/ipc-kasijootmisvoistlus-2025/
LOCATION:TTÜ\, Ehitajate tee 5\, Tallinn\, 19086\, Estonia
END:VEVENT
BEGIN:VEVENT
DTSTART;TZID=Europe/Tallinn:20251205T090000
DTEND;TZID=Europe/Tallinn:20251205T193000
DTSTAMP:20260420T033410
CREATED:20251023T121542Z
LAST-MODIFIED:20251023T122751Z
UID:25811-1764925200-1764963000@estonianelectronics.eu
SUMMARY:EMS & BEYOND 2025
DESCRIPTION:5. detsembril 2025 toimub Tallinnas hotellis Hilton Tallinn Park rahvusvaheline seminar EMS & BEYOND 2025\, mis toob kokku Euroopa elektroonikatööstuse tipptegijad\, analüütikud ja ettevõtjad. Päeva jooksul arutletakse sektori konkurentsivõime ja koostöövõimaluste üle\, fookuses on tootmine Euroopas\, innovatsioon ning strateegilised sammud globaalse konkurentsi tingimustes.
URL:https://estonianelectronics.eu/uritus/ems-beyond-2025/
LOCATION:Hilton Tallinn Park\, Fr. R. Kreutzwaldi 23\, Tallinn\, Estonia
ATTACH;FMTTYPE=image/jpeg:https://estonianelectronics.eu/wp-content/uploads/2025/10/EMS-and-Beyond-2025-eetl.jpg
ORGANIZER;CN="EETL":MAILTO:info@estonianelectronics.eu
END:VEVENT
BEGIN:VEVENT
DTSTART;VALUE=DATE:20260121
DTEND;VALUE=DATE:20260123
DTSTAMP:20260420T033410
CREATED:20251015T123608Z
LAST-MODIFIED:20251015T123608Z
UID:25774-1768953600-1769126399@estonianelectronics.eu
SUMMARY:Pan-European Electronics Design Conference (PEDC) 2026
DESCRIPTION:PEDC 2026 – Connecting Europe’s Electronics Design Community \n  \n21–22 January 2026\, Prague \n  \nEurope’s top electronics engineers\, researchers\, and innovators meet at the 2nd Pan-European Electronics Design Conference (PEDC) — the only event dedicated to advancing electronic design “from Silicon to Systems.” \n  \nHosted by the Electronics Design and Manufacturing Association (FED) and the Global Electronics Association\, PEDC 2026 will bring together professionals from over 3\,700 companies across Europe for two inspiring days of insights\, networking\, and collaboration. \n  \nWhy attend PEDC 2026: \n\n     Explore the latest breakthroughs in design\, DfX\, and software tools.\n     Connect with decision-makers and innovators shaping Europe’s electronics future.\n     Gain knowledge that accelerates product development and innovation.\n\n  \nEarly Bird Registration is open until 15 November 2025.
URL:https://estonianelectronics.eu/uritus/pan-european-electronics-design-conference-pedc-2026/
LOCATION:NH Prague City\, Czech Republic
END:VEVENT
BEGIN:VEVENT
DTSTART;TZID=Europe/Tallinn:20260430T110000
DTEND;TZID=Europe/Tallinn:20260430T120000
DTSTAMP:20260420T033410
CREATED:20260401T071833Z
LAST-MODIFIED:20260401T071833Z
UID:26407-1777546800-1777550400@estonianelectronics.eu
SUMMARY:Webinar “Elektroonika tootearenduse sõlmprobleemid”
DESCRIPTION:Eesti Elektroonikatööstuse Liit kutsub tootearendusest huvitatuid webinarile “Elektroonika tootearenduse sõlmprobleemid” neljapäeval\, 30.04.2026 kell 11:00-11:45. Tootearendusbüroo Levami juhtivpartner Kristjan Tozen käsitleb oma kogemustele tuginedes järgmisi teemasid: teekond ideest toote prototüübi ja pilootpartiini\, katsetuste ja sertifitseerimise planeerimine\, dokumenteerimise ulatus ja põhimõtted\, soovitused suhtluseks tarnijate ja elektroonika koosteteenuste pakkujatega. \nOsavõtt on tasuta\, huvilistel palume registreeruda e-kirja teel kuni 27.04.2026\, piisab osaleja nime ja ettevõtte nimetusega tühjast kirjast. MS Teams-viide saadetakse registreerunutele hiljemalt üritusele eelneval päeval.
URL:https://estonianelectronics.eu/uritus/webinar-elektroonika-tootearenduse-solmprobleemid/
ORGANIZER;CN="EETL":MAILTO:info@estonianelectronics.eu
END:VEVENT
END:VCALENDAR